BEGIN:VCALENDAR
VERSION:2.0
PRODID:-//TRAC - ECPv6.15.10//NONSGML v1.0//EN
CALSCALE:GREGORIAN
METHOD:PUBLISH
X-WR-CALNAME:TRAC
X-ORIGINAL-URL:http://tracpgh.com
X-WR-CALDESC:Events for TRAC
REFRESH-INTERVAL;VALUE=DURATION:PT1H
X-Robots-Tag:noindex
X-PUBLISHED-TTL:PT1H
BEGIN:VTIMEZONE
TZID:America/New_York
BEGIN:DAYLIGHT
TZOFFSETFROM:-0500
TZOFFSETTO:-0400
TZNAME:EDT
DTSTART:20220313T070000
END:DAYLIGHT
BEGIN:STANDARD
TZOFFSETFROM:-0400
TZOFFSETTO:-0500
TZNAME:EST
DTSTART:20221106T060000
END:STANDARD
BEGIN:DAYLIGHT
TZOFFSETFROM:-0500
TZOFFSETTO:-0400
TZNAME:EDT
DTSTART:20230312T070000
END:DAYLIGHT
BEGIN:STANDARD
TZOFFSETFROM:-0400
TZOFFSETTO:-0500
TZNAME:EST
DTSTART:20231105T060000
END:STANDARD
BEGIN:DAYLIGHT
TZOFFSETFROM:-0500
TZOFFSETTO:-0400
TZNAME:EDT
DTSTART:20240310T070000
END:DAYLIGHT
BEGIN:STANDARD
TZOFFSETFROM:-0400
TZOFFSETTO:-0500
TZNAME:EST
DTSTART:20241103T060000
END:STANDARD
BEGIN:DAYLIGHT
TZOFFSETFROM:-0500
TZOFFSETTO:-0400
TZNAME:EDT
DTSTART:20250309T070000
END:DAYLIGHT
BEGIN:STANDARD
TZOFFSETFROM:-0400
TZOFFSETTO:-0500
TZNAME:EST
DTSTART:20251102T060000
END:STANDARD
BEGIN:DAYLIGHT
TZOFFSETFROM:-0500
TZOFFSETTO:-0400
TZNAME:EDT
DTSTART:20260308T070000
END:DAYLIGHT
BEGIN:STANDARD
TZOFFSETFROM:-0400
TZOFFSETTO:-0500
TZNAME:EST
DTSTART:20261101T060000
END:STANDARD
BEGIN:DAYLIGHT
TZOFFSETFROM:-0500
TZOFFSETTO:-0400
TZNAME:EDT
DTSTART:20270314T070000
END:DAYLIGHT
BEGIN:STANDARD
TZOFFSETFROM:-0400
TZOFFSETTO:-0500
TZNAME:EST
DTSTART:20271107T060000
END:STANDARD
END:VTIMEZONE
BEGIN:VEVENT
DTSTART;TZID=America/New_York:20260403T000000
DTEND;TZID=America/New_York:20260403T000000
DTSTAMP:20260421T161240
CREATED:20260209T225827Z
LAST-MODIFIED:20260209T225827Z
UID:11841-1775174400-1775174400@tracpgh.com
SUMMARY:Good Friday - TRAC Office is closed
DESCRIPTION:
URL:http://tracpgh.com/event/good-friday-trac-office-is-closed-4/
CATEGORIES:Holiday
END:VEVENT
BEGIN:VEVENT
DTSTART;TZID=America/New_York:20260216T000000
DTEND;TZID=America/New_York:20260216T000000
DTSTAMP:20260421T161240
CREATED:20260209T225827Z
LAST-MODIFIED:20260209T225827Z
UID:11840-1771200000-1771200000@tracpgh.com
SUMMARY:Presidents Day - TRAC Office is closed
DESCRIPTION:
URL:http://tracpgh.com/event/presidents-day-trac-office-is-closed-3/
CATEGORIES:Holiday
END:VEVENT
BEGIN:VEVENT
DTSTART;TZID=America/New_York:20260119T000000
DTEND;TZID=America/New_York:20260119T000000
DTSTAMP:20260421T161240
CREATED:20260209T225826Z
LAST-MODIFIED:20260209T225826Z
UID:11839-1768780800-1768780800@tracpgh.com
SUMMARY:Martin Luther King Jr. Day - TRAC Office is closed
DESCRIPTION:
URL:http://tracpgh.com/event/martin-luther-king-jr-day-trac-office-is-closed-3/
CATEGORIES:Holiday
END:VEVENT
BEGIN:VEVENT
DTSTART;TZID=America/New_York:20260102T000000
DTEND;TZID=America/New_York:20260102T000000
DTSTAMP:20260421T161240
CREATED:20260209T225826Z
LAST-MODIFIED:20260209T225826Z
UID:11838-1767312000-1767312000@tracpgh.com
SUMMARY:New Year's Day - TRAC Office is closed
DESCRIPTION:
URL:http://tracpgh.com/event/new-years-day-trac-office-is-closed-4/
CATEGORIES:Holiday
END:VEVENT
BEGIN:VEVENT
DTSTART;TZID=America/New_York:20260101T000000
DTEND;TZID=America/New_York:20260101T000000
DTSTAMP:20260421T161240
CREATED:20260209T225647Z
LAST-MODIFIED:20260209T225647Z
UID:11837-1767225600-1767225600@tracpgh.com
SUMMARY:New Year's Day - TRAC Office is closed
DESCRIPTION:
URL:http://tracpgh.com/event/new-years-day-trac-office-is-closed-3/
CATEGORIES:Holiday
END:VEVENT
BEGIN:VEVENT
DTSTART;TZID=America/New_York:20251225T000000
DTEND;TZID=America/New_York:20251227T000000
DTSTAMP:20260421T161240
CREATED:20250127T163917Z
LAST-MODIFIED:20251208T165054Z
UID:11045-1766620800-1766793600@tracpgh.com
SUMMARY:Christmas - TRAC Office is closed
DESCRIPTION:
URL:http://tracpgh.com/event/christmas-trac-office-is-closed-3/
CATEGORIES:Holiday
END:VEVENT
BEGIN:VEVENT
DTSTART;TZID=America/New_York:20251127T000000
DTEND;TZID=America/New_York:20251128T000000
DTSTAMP:20260421T161240
CREATED:20250127T163917Z
LAST-MODIFIED:20250127T163917Z
UID:11044-1764201600-1764288000@tracpgh.com
SUMMARY:Thanksgiving  - TRAC Office is closed
DESCRIPTION:
URL:http://tracpgh.com/event/thanksgiving-trac-office-is-closed-3/
CATEGORIES:Holiday
END:VEVENT
BEGIN:VEVENT
DTSTART;TZID=America/New_York:20250901T000000
DTEND;TZID=America/New_York:20250901T000000
DTSTAMP:20260421T161240
CREATED:20250127T163916Z
LAST-MODIFIED:20250127T163916Z
UID:11043-1756684800-1756684800@tracpgh.com
SUMMARY:Labor Day - TRAC Office is closed
DESCRIPTION:
URL:http://tracpgh.com/event/labor-day-trac-office-is-closed-3/
CATEGORIES:Holiday
END:VEVENT
BEGIN:VEVENT
DTSTART;TZID=America/New_York:20250704T000000
DTEND;TZID=America/New_York:20250704T000000
DTSTAMP:20260421T161240
CREATED:20250127T163916Z
LAST-MODIFIED:20250127T163916Z
UID:11042-1751587200-1751587200@tracpgh.com
SUMMARY:Fourth of July - TRAC Office is closed
DESCRIPTION:
URL:http://tracpgh.com/event/fourth-of-july-trac-office-is-closed-3/
CATEGORIES:Holiday
END:VEVENT
BEGIN:VEVENT
DTSTART;TZID=America/New_York:20250526T000000
DTEND;TZID=America/New_York:20250526T000000
DTSTAMP:20260421T161240
CREATED:20250127T163901Z
LAST-MODIFIED:20250127T163901Z
UID:11041-1748217600-1748217600@tracpgh.com
SUMMARY:Memorial Day - TRAC Office is closed
DESCRIPTION:
URL:http://tracpgh.com/event/memorial-day-trac-office-is-closed-3/
CATEGORIES:Holiday
END:VEVENT
BEGIN:VEVENT
DTSTART;TZID=America/New_York:20250418T000000
DTEND;TZID=America/New_York:20250418T000000
DTSTAMP:20260421T161240
CREATED:20250127T163901Z
LAST-MODIFIED:20250127T163901Z
UID:11040-1744934400-1744934400@tracpgh.com
SUMMARY:Good Friday - TRAC Office is closed
DESCRIPTION:
URL:http://tracpgh.com/event/good-friday-trac-office-is-closed-3/
CATEGORIES:Holiday
END:VEVENT
BEGIN:VEVENT
DTSTART;TZID=America/New_York:20250217T000000
DTEND;TZID=America/New_York:20250217T000000
DTSTAMP:20260421T161240
CREATED:20250127T163901Z
LAST-MODIFIED:20250127T163901Z
UID:11039-1739750400-1739750400@tracpgh.com
SUMMARY:Presidents Day - TRAC Office is closed
DESCRIPTION:
URL:http://tracpgh.com/event/presidents-day-trac-office-is-closed-2/
CATEGORIES:Holiday
END:VEVENT
BEGIN:VEVENT
DTSTART;TZID=America/New_York:20250120T000000
DTEND;TZID=America/New_York:20250120T000000
DTSTAMP:20260421T161240
CREATED:20250127T163901Z
LAST-MODIFIED:20250127T163901Z
UID:11038-1737331200-1737331200@tracpgh.com
SUMMARY:Martin Luther King Jr. Day - TRAC Office is closed
DESCRIPTION:
URL:http://tracpgh.com/event/martin-luther-king-jr-day-trac-office-is-closed-2/
CATEGORIES:Holiday
END:VEVENT
BEGIN:VEVENT
DTSTART;TZID=America/New_York:20250101T000000
DTEND;TZID=America/New_York:20250101T000000
DTSTAMP:20260421T161240
CREATED:20250127T163901Z
LAST-MODIFIED:20250127T163901Z
UID:11037-1735689600-1735689600@tracpgh.com
SUMMARY:New Year's Day - TRAC Office is closed
DESCRIPTION:
URL:http://tracpgh.com/event/new-years-day-trac-office-is-closed-2/
CATEGORIES:Holiday
END:VEVENT
BEGIN:VEVENT
DTSTART;TZID=America/New_York:20241225T000000
DTEND;TZID=America/New_York:20241225T000000
DTSTAMP:20260421T161240
CREATED:20240125T211417Z
LAST-MODIFIED:20240125T211417Z
UID:10252-1735084800-1735084800@tracpgh.com
SUMMARY:Christmas - TRAC Office is closed
DESCRIPTION:
URL:http://tracpgh.com/event/christmas-trac-office-is-closed-2/
CATEGORIES:Holiday
END:VEVENT
BEGIN:VEVENT
DTSTART;TZID=America/New_York:20241128T000000
DTEND;TZID=America/New_York:20241129T000000
DTSTAMP:20260421T161240
CREATED:20240125T211417Z
LAST-MODIFIED:20240125T211417Z
UID:10251-1732752000-1732838400@tracpgh.com
SUMMARY:Thanksgiving  - TRAC Office is closed
DESCRIPTION:
URL:http://tracpgh.com/event/thanksgiving-trac-office-is-closed-2/
CATEGORIES:Holiday
END:VEVENT
BEGIN:VEVENT
DTSTART;TZID=America/New_York:20240902T000000
DTEND;TZID=America/New_York:20240902T000000
DTSTAMP:20260421T161240
CREATED:20240125T211417Z
LAST-MODIFIED:20240125T211417Z
UID:10250-1725235200-1725235200@tracpgh.com
SUMMARY:Labor Day - TRAC Office is closed
DESCRIPTION:
URL:http://tracpgh.com/event/labor-day-trac-office-is-closed-2/
CATEGORIES:Holiday
END:VEVENT
BEGIN:VEVENT
DTSTART;TZID=America/New_York:20240704T000000
DTEND;TZID=America/New_York:20240704T000000
DTSTAMP:20260421T161240
CREATED:20240125T211417Z
LAST-MODIFIED:20240125T211417Z
UID:10249-1720051200-1720051200@tracpgh.com
SUMMARY:Fourth of July - TRAC Office is closed
DESCRIPTION:
URL:http://tracpgh.com/event/fourth-of-july-trac-office-is-closed-2/
CATEGORIES:Holiday
END:VEVENT
BEGIN:VEVENT
DTSTART;TZID=America/New_York:20240527T000000
DTEND;TZID=America/New_York:20240527T000000
DTSTAMP:20260421T161240
CREATED:20240125T211403Z
LAST-MODIFIED:20240125T211403Z
UID:10248-1716768000-1716768000@tracpgh.com
SUMMARY:Memorial Day - TRAC Office is closed
DESCRIPTION:
URL:http://tracpgh.com/event/memorial-day-trac-office-is-closed-2/
CATEGORIES:Holiday
END:VEVENT
BEGIN:VEVENT
DTSTART;TZID=America/New_York:20240329T000000
DTEND;TZID=America/New_York:20240329T000000
DTSTAMP:20260421T161240
CREATED:20240125T211403Z
LAST-MODIFIED:20240125T211403Z
UID:10247-1711670400-1711670400@tracpgh.com
SUMMARY:Good Friday - TRAC Office is closed
DESCRIPTION:
URL:http://tracpgh.com/event/good-friday-trac-office-is-closed-2/
CATEGORIES:Holiday
END:VEVENT
BEGIN:VEVENT
DTSTART;TZID=America/New_York:20240219T000000
DTEND;TZID=America/New_York:20240219T000000
DTSTAMP:20260421T161240
CREATED:20240125T211403Z
LAST-MODIFIED:20240125T211403Z
UID:10246-1708300800-1708300800@tracpgh.com
SUMMARY:Presidents Day - TRAC Office is closed
DESCRIPTION:
URL:http://tracpgh.com/event/presidents-day-trac-office-is-closed/
CATEGORIES:Holiday
END:VEVENT
BEGIN:VEVENT
DTSTART;TZID=America/New_York:20240115T000000
DTEND;TZID=America/New_York:20240115T000000
DTSTAMP:20260421T161240
CREATED:20240125T211402Z
LAST-MODIFIED:20240125T211402Z
UID:10245-1705276800-1705276800@tracpgh.com
SUMMARY:Martin Luther King Jr. Day - TRAC Office is closed
DESCRIPTION:
URL:http://tracpgh.com/event/martin-luther-king-jr-day-trac-office-is-closed/
CATEGORIES:Holiday
END:VEVENT
BEGIN:VEVENT
DTSTART;TZID=America/New_York:20240101T000000
DTEND;TZID=America/New_York:20240101T000000
DTSTAMP:20260421T161240
CREATED:20240125T211402Z
LAST-MODIFIED:20240125T211402Z
UID:10244-1704067200-1704067200@tracpgh.com
SUMMARY:New Year's Day - TRAC Office is closed
DESCRIPTION:
URL:http://tracpgh.com/event/new-years-day-trac-office-is-closed/
CATEGORIES:Holiday
END:VEVENT
BEGIN:VEVENT
DTSTART;TZID=America/New_York:20231225T000000
DTEND;TZID=America/New_York:20231225T000000
DTSTAMP:20260421T161240
CREATED:20230327T181228Z
LAST-MODIFIED:20230327T181228Z
UID:9472-1703462400-1703462400@tracpgh.com
SUMMARY:Christmas - TRAC Office is closed
DESCRIPTION:
URL:http://tracpgh.com/event/christmas-trac-office-is-closed/
CATEGORIES:Holiday
END:VEVENT
BEGIN:VEVENT
DTSTART;TZID=America/New_York:20231123T000000
DTEND;TZID=America/New_York:20231124T000000
DTSTAMP:20260421T161240
CREATED:20230327T181227Z
LAST-MODIFIED:20230327T181227Z
UID:9471-1700697600-1700784000@tracpgh.com
SUMMARY:Thanksgiving  - TRAC Office is closed
DESCRIPTION:
URL:http://tracpgh.com/event/thanksgiving-trac-office-is-closed/
CATEGORIES:Holiday
END:VEVENT
END:VCALENDAR