BEGIN:VCALENDAR
VERSION:2.0
PRODID:-//TRAC - ECPv6.15.10//NONSGML v1.0//EN
CALSCALE:GREGORIAN
METHOD:PUBLISH
X-WR-CALNAME:TRAC
X-ORIGINAL-URL:http://tracpgh.com
X-WR-CALDESC:Events for TRAC
REFRESH-INTERVAL;VALUE=DURATION:PT1H
X-Robots-Tag:noindex
X-PUBLISHED-TTL:PT1H
BEGIN:VTIMEZONE
TZID:America/New_York
BEGIN:DAYLIGHT
TZOFFSETFROM:-0500
TZOFFSETTO:-0400
TZNAME:EDT
DTSTART:20240310T070000
END:DAYLIGHT
BEGIN:STANDARD
TZOFFSETFROM:-0400
TZOFFSETTO:-0500
TZNAME:EST
DTSTART:20241103T060000
END:STANDARD
BEGIN:DAYLIGHT
TZOFFSETFROM:-0500
TZOFFSETTO:-0400
TZNAME:EDT
DTSTART:20250309T070000
END:DAYLIGHT
BEGIN:STANDARD
TZOFFSETFROM:-0400
TZOFFSETTO:-0500
TZNAME:EST
DTSTART:20251102T060000
END:STANDARD
BEGIN:DAYLIGHT
TZOFFSETFROM:-0500
TZOFFSETTO:-0400
TZNAME:EDT
DTSTART:20260308T070000
END:DAYLIGHT
BEGIN:STANDARD
TZOFFSETFROM:-0400
TZOFFSETTO:-0500
TZNAME:EST
DTSTART:20261101T060000
END:STANDARD
BEGIN:DAYLIGHT
TZOFFSETFROM:-0500
TZOFFSETTO:-0400
TZNAME:EDT
DTSTART:20270314T070000
END:DAYLIGHT
BEGIN:STANDARD
TZOFFSETFROM:-0400
TZOFFSETTO:-0500
TZNAME:EST
DTSTART:20271107T060000
END:STANDARD
END:VTIMEZONE
BEGIN:VEVENT
DTSTART;TZID=America/New_York:20260415T193000
DTEND;TZID=America/New_York:20260415T193000
DTSTAMP:20260421T145952
CREATED:20260209T230431Z
LAST-MODIFIED:20260209T230431Z
UID:11857-1776281400-1776281400@tracpgh.com
SUMMARY:Circle of Security Parenting
DESCRIPTION:Based in decades of research\, the course takes complex attachment research and organizes it into a simple set of concepts that help caregivers see their relationship with their child more clearly. Through the course\, caregivers can learn how to better understand their child’s emotional world and be able to support their child in successfully managing their own emotions.\nThis course is designed for caregivers who are currently or will be parenting children between 4 months and 6 years old. We are willing to take outside of this range on a case by case basis. For questions on the course\, eligibility\, or to register\, please contact Renee Schmitzer at rschmitzer@tracpgh.org or 412-471-8722 ext. 245.
URL:http://tracpgh.com/event/circle-of-security-parenting-13/
LOCATION:Via Zoom
CATEGORIES:Recertification Training
END:VEVENT
BEGIN:VEVENT
DTSTART;TZID=America/New_York:20260408T193000
DTEND;TZID=America/New_York:20260408T193000
DTSTAMP:20260421T145952
CREATED:20260209T230430Z
LAST-MODIFIED:20260209T230430Z
UID:11856-1775676600-1775676600@tracpgh.com
SUMMARY:Circle of Security Parenting
DESCRIPTION:Based in decades of research\, the course takes complex attachment research and organizes it into a simple set of concepts that help caregivers see their relationship with their child more clearly. Through the course\, caregivers can learn how to better understand their child’s emotional world and be able to support their child in successfully managing their own emotions.\nThis course is designed for caregivers who are currently or will be parenting children between 4 months and 6 years old. We are willing to take outside of this range on a case by case basis. For questions on the course\, eligibility\, or to register\, please contact Renee Schmitzer at rschmitzer@tracpgh.org or 412-471-8722 ext. 245.
URL:http://tracpgh.com/event/circle-of-security-parenting-12/
LOCATION:Via Zoom
CATEGORIES:Recertification Training
END:VEVENT
BEGIN:VEVENT
DTSTART;TZID=America/New_York:20260401T193000
DTEND;TZID=America/New_York:20260401T193000
DTSTAMP:20260421T145952
CREATED:20260209T230430Z
LAST-MODIFIED:20260209T230430Z
UID:11855-1775071800-1775071800@tracpgh.com
SUMMARY:Circle of Security Parenting
DESCRIPTION:Based in decades of research\, the course takes complex attachment research and organizes it into a simple set of concepts that help caregivers see their relationship with their child more clearly. Through the course\, caregivers can learn how to better understand their child’s emotional world and be able to support their child in successfully managing their own emotions.\nThis course is designed for caregivers who are currently or will be parenting children between 4 months and 6 years old. We are willing to take outside of this range on a case by case basis. For questions on the course\, eligibility\, or to register\, please contact Renee Schmitzer at rschmitzer@tracpgh.org or 412-471-8722 ext. 245.
URL:http://tracpgh.com/event/circle-of-security-parenting-11/
LOCATION:Via Zoom
CATEGORIES:Recertification Training
END:VEVENT
BEGIN:VEVENT
DTSTART;TZID=America/New_York:20260325T193000
DTEND;TZID=America/New_York:20260325T193000
DTSTAMP:20260421T145952
CREATED:20260209T230430Z
LAST-MODIFIED:20260209T230430Z
UID:11854-1774467000-1774467000@tracpgh.com
SUMMARY:Circle of Security Parenting
DESCRIPTION:Based in decades of research\, the course takes complex attachment research and organizes it into a simple set of concepts that help caregivers see their relationship with their child more clearly. Through the course\, caregivers can learn how to better understand their child’s emotional world and be able to support their child in successfully managing their own emotions.\nThis course is designed for caregivers who are currently or will be parenting children between 4 months and 6 years old. We are willing to take outside of this range on a case by case basis. For questions on the course\, eligibility\, or to register\, please contact Renee Schmitzer at rschmitzer@tracpgh.org or 412-471-8722 ext. 245.
URL:http://tracpgh.com/event/circle-of-security-parenting-10/
LOCATION:Via Zoom
CATEGORIES:Recertification Training
END:VEVENT
BEGIN:VEVENT
DTSTART;TZID=America/New_York:20260318T193000
DTEND;TZID=America/New_York:20260318T193000
DTSTAMP:20260421T145952
CREATED:20260209T230429Z
LAST-MODIFIED:20260209T230429Z
UID:11853-1773862200-1773862200@tracpgh.com
SUMMARY:Circle of Security Parenting
DESCRIPTION:Based in decades of research\, the course takes complex attachment research and organizes it into a simple set of concepts that help caregivers see their relationship with their child more clearly. Through the course\, caregivers can learn how to better understand their child’s emotional world and be able to support their child in successfully managing their own emotions.\nThis course is designed for caregivers who are currently or will be parenting children between 4 months and 6 years old. We are willing to take outside of this range on a case by case basis. For questions on the course\, eligibility\, or to register\, please contact Renee Schmitzer at rschmitzer@tracpgh.org or 412-471-8722 ext. 245.
URL:http://tracpgh.com/event/circle-of-security-parenting-9/
LOCATION:Via Zoom
CATEGORIES:Recertification Training
END:VEVENT
BEGIN:VEVENT
DTSTART;TZID=America/New_York:20251108T100000
DTEND;TZID=America/New_York:20251108T183000
DTSTAMP:20260421T145952
CREATED:20250825T164025Z
LAST-MODIFIED:20250825T164025Z
UID:11491-1762596000-1762626600@tracpgh.com
SUMMARY:Circle of Security Parenting
DESCRIPTION:Based in decades of research\, the course takes complex attachment research and organizes it into a simple set of concepts that help caregivers see their relationship with their child more clearly. Through the course\, caregivers can learn how to better understand their child’s emotional world and be able to support their child in successfully managing their own emotions.\nThis course is designed for caregivers who are currently or will be parenting children between 4 months and 6 years old. We are willing to take outside of this range on a case by case basis. For questions on the course\, eligibility\, or to register\, please contact Renee Schmitzer at rschmitzer@tracpgh.org or 412-471-8722 ext. 245.
URL:http://tracpgh.com/event/circle-of-security-parenting-8/
LOCATION:TRAC\, 1600 West Carson St\, Pittsburgh\, PA\, 15218\, United States
CATEGORIES:Recertification Training
END:VEVENT
BEGIN:VEVENT
DTSTART;TZID=America/New_York:20251101T100000
DTEND;TZID=America/New_York:20251101T173000
DTSTAMP:20260421T145952
CREATED:20250825T164024Z
LAST-MODIFIED:20250825T164024Z
UID:11490-1761991200-1762018200@tracpgh.com
SUMMARY:Circle of Security Parenting
DESCRIPTION:Based in decades of research\, the course takes complex attachment research and organizes it into a simple set of concepts that help caregivers see their relationship with their child more clearly. Through the course\, caregivers can learn how to better understand their child’s emotional world and be able to support their child in successfully managing their own emotions.\nThis course is designed for caregivers who are currently or will be parenting children between 4 months and 6 years old. We are willing to take outside of this range on a case by case basis. For questions on the course\, eligibility\, or to register\, please contact Renee Schmitzer at rschmitzer@tracpgh.org or 412-471-8722 ext. 245.
URL:http://tracpgh.com/event/circle-of-security-parenting-7/
LOCATION:TRAC\, 1600 West Carson St\, Pittsburgh\, PA\, 15218\, United States
CATEGORIES:Recertification Training
END:VEVENT
BEGIN:VEVENT
DTSTART;TZID=America/New_York:20251025T100000
DTEND;TZID=America/New_York:20251025T163000
DTSTAMP:20260421T145952
CREATED:20250825T164013Z
LAST-MODIFIED:20250825T164013Z
UID:11489-1761386400-1761409800@tracpgh.com
SUMMARY:Circle of Security Parenting
DESCRIPTION:Based in decades of research\, the course takes complex attachment research and organizes it into a simple set of concepts that help caregivers see their relationship with their child more clearly. Through the course\, caregivers can learn how to better understand their child’s emotional world and be able to support their child in successfully managing their own emotions.\nThis course is designed for caregivers who are currently or will be parenting children between 4 months and 6 years old. We are willing to take outside of this range on a case by case basis. For questions on the course\, eligibility\, or to register\, please contact Renee Schmitzer at rschmitzer@tracpgh.org or 412-471-8722 ext. 245.
URL:http://tracpgh.com/event/circle-of-security-parenting-6/
LOCATION:TRAC\, 1600 West Carson St\, Pittsburgh\, PA\, 15218\, United States
CATEGORIES:Recertification Training
END:VEVENT
BEGIN:VEVENT
DTSTART;TZID=America/New_York:20251018T100000
DTEND;TZID=America/New_York:20251018T153000
DTSTAMP:20260421T145952
CREATED:20250825T164012Z
LAST-MODIFIED:20250825T164012Z
UID:11488-1760781600-1760801400@tracpgh.com
SUMMARY:Circle of Security Parenting
DESCRIPTION:Based in decades of research\, the course takes complex attachment research and organizes it into a simple set of concepts that help caregivers see their relationship with their child more clearly. Through the course\, caregivers can learn how to better understand their child’s emotional world and be able to support their child in successfully managing their own emotions.\nThis course is designed for caregivers who are currently or will be parenting children between 4 months and 6 years old. We are willing to take outside of this range on a case by case basis. For questions on the course\, eligibility\, or to register\, please contact Renee Schmitzer at rschmitzer@tracpgh.org or 412-471-8722 ext. 245.
URL:http://tracpgh.com/event/circle-of-security-parenting-5/
LOCATION:TRAC\, 1600 West Carson St\, Pittsburgh\, PA\, 15218\, United States
CATEGORIES:Recertification Training
END:VEVENT
BEGIN:VEVENT
DTSTART;TZID=America/New_York:20251004T100000
DTEND;TZID=America/New_York:20251004T143000
DTSTAMP:20260421T145952
CREATED:20250825T164011Z
LAST-MODIFIED:20250825T164011Z
UID:11487-1759572000-1759588200@tracpgh.com
SUMMARY:Circle of Security Parenting
DESCRIPTION:Based in decades of research\, the course takes complex attachment research and organizes it into a simple set of concepts that help caregivers see their relationship with their child more clearly. Through the course\, caregivers can learn how to better understand their child’s emotional world and be able to support their child in successfully managing their own emotions.\nThis course is designed for caregivers who are currently or will be parenting children between 4 months and 6 years old. We are willing to take outside of this range on a case by case basis. For questions on the course\, eligibility\, or to register\, please contact Renee Schmitzer at rschmitzer@tracpgh.org or 412-471-8722 ext. 245.
URL:http://tracpgh.com/event/circle-of-security-parenting-4/
LOCATION:TRAC\, 1600 West Carson St\, Pittsburgh\, PA\, 15218\, United States
CATEGORIES:Recertification Training
END:VEVENT
BEGIN:VEVENT
DTSTART;TZID=America/New_York:20250927T100000
DTEND;TZID=America/New_York:20250927T133000
DTSTAMP:20260421T145952
CREATED:20250825T164010Z
LAST-MODIFIED:20250825T164010Z
UID:11486-1758967200-1758979800@tracpgh.com
SUMMARY:Circle of Security Parenting
DESCRIPTION:Based in decades of research\, the course takes complex attachment research and organizes it into a simple set of concepts that help caregivers see their relationship with their child more clearly. Through the course\, caregivers can learn how to better understand their child’s emotional world and be able to support their child in successfully managing their own emotions.\nThis course is designed for caregivers who are currently or will be parenting children between 4 months and 6 years old. We are willing to take outside of this range on a case by case basis. For questions on the course\, eligibility\, or to register\, please contact Renee Schmitzer at rschmitzer@tracpgh.org or 412-471-8722 ext. 245.
URL:http://tracpgh.com/event/circle-of-security-parenting-3/
LOCATION:TRAC\, 1600 West Carson St\, Pittsburgh\, PA\, 15218\, United States
CATEGORIES:Recertification Training
END:VEVENT
BEGIN:VEVENT
DTSTART;TZID=America/New_York:20250920T100000
DTEND;TZID=America/New_York:20250920T123000
DTSTAMP:20260421T145952
CREATED:20250825T164009Z
LAST-MODIFIED:20250825T164009Z
UID:11485-1758362400-1758371400@tracpgh.com
SUMMARY:Circle of Security Parenting
DESCRIPTION:Based in decades of research\, the course takes complex attachment research and organizes it into a simple set of concepts that help caregivers see their relationship with their child more clearly. Through the course\, caregivers can learn how to better understand their child’s emotional world and be able to support their child in successfully managing their own emotions.\nThis course is designed for caregivers who are currently or will be parenting children between 4 months and 6 years old. We are willing to take outside of this range on a case by case basis. For questions on the course\, eligibility\, or to register\, please contact Renee Schmitzer at rschmitzer@tracpgh.org or 412-471-8722 ext. 245.
URL:http://tracpgh.com/event/circle-of-security-parenting-2/
LOCATION:TRAC\, 1600 West Carson St\, Pittsburgh\, PA\, 15218\, United States
CATEGORIES:Recertification Training
END:VEVENT
BEGIN:VEVENT
DTSTART;TZID=America/New_York:20250913T100000
DTEND;TZID=America/New_York:20250913T113000
DTSTAMP:20260421T145952
CREATED:20250825T163957Z
LAST-MODIFIED:20250825T163957Z
UID:11484-1757757600-1757763000@tracpgh.com
SUMMARY:Circle of Security Parenting
DESCRIPTION:Based in decades of research\, the course takes complex attachment research and organizes it into a simple set of concepts that help caregivers see their relationship with their child more clearly. Through the course\, caregivers can learn how to better understand their child’s emotional world and be able to support their child in successfully managing their own emotions.\nThis course is designed for caregivers who are currently or will be parenting children between 4 months and 6 years old. We are willing to take outside of this range on a case by case basis. For questions on the course\, eligibility\, or to register\, please contact Renee Schmitzer at rschmitzer@tracpgh.org or 412-471-8722 ext. 245.
URL:http://tracpgh.com/event/circle-of-security-parenting/
LOCATION:TRAC\, 1600 West Carson St\, Pittsburgh\, PA\, 15218\, United States
CATEGORIES:Recertification Training
END:VEVENT
END:VCALENDAR