BEGIN:VCALENDAR
VERSION:2.0
PRODID:-//TRAC - ECPv6.15.10//NONSGML v1.0//EN
CALSCALE:GREGORIAN
METHOD:PUBLISH
X-ORIGINAL-URL:http://tracpgh.com
X-WR-CALDESC:Events for TRAC
REFRESH-INTERVAL;VALUE=DURATION:PT1H
X-Robots-Tag:noindex
X-PUBLISHED-TTL:PT1H
BEGIN:VTIMEZONE
TZID:America/New_York
BEGIN:DAYLIGHT
TZOFFSETFROM:-0500
TZOFFSETTO:-0400
TZNAME:EDT
DTSTART:20230312T070000
END:DAYLIGHT
BEGIN:STANDARD
TZOFFSETFROM:-0400
TZOFFSETTO:-0500
TZNAME:EST
DTSTART:20231105T060000
END:STANDARD
BEGIN:DAYLIGHT
TZOFFSETFROM:-0500
TZOFFSETTO:-0400
TZNAME:EDT
DTSTART:20240310T070000
END:DAYLIGHT
BEGIN:STANDARD
TZOFFSETFROM:-0400
TZOFFSETTO:-0500
TZNAME:EST
DTSTART:20241103T060000
END:STANDARD
BEGIN:DAYLIGHT
TZOFFSETFROM:-0500
TZOFFSETTO:-0400
TZNAME:EDT
DTSTART:20250309T070000
END:DAYLIGHT
BEGIN:STANDARD
TZOFFSETFROM:-0400
TZOFFSETTO:-0500
TZNAME:EST
DTSTART:20251102T060000
END:STANDARD
END:VTIMEZONE
BEGIN:VEVENT
DTSTART;TZID=America/New_York:20241207T090000
DTEND;TZID=America/New_York:20241207T090000
DTSTAMP:20260422T153518
CREATED:20240125T211222Z
LAST-MODIFIED:20240125T211222Z
UID:10242-1733562000-1733562000@tracpgh.com
SUMMARY:Pre-Service Training - Day 5
DESCRIPTION:Loss & Grief\, Sexual Abuse & Healing the Hurts\, and Healing Parents. Contact: Shayna Johnson 412-471-8722 ext. 246 Email: sjohnson@tracpgh.org\nPre-Service Training Sign upPlease enable JavaScript in your browser to complete this form.Name *FirstLastEmail *Phone *Have you attended a TRAC Orientation Session? *YesNoNames of all attendees *EmailRegister
URL:http://tracpgh.com/event/pre-service-training-day-5-19/
LOCATION:Via Zoom
CATEGORIES:Parent Prep Training
END:VEVENT
BEGIN:VEVENT
DTSTART;TZID=America/New_York:20241214T090000
DTEND;TZID=America/New_York:20241214T090000
DTSTAMP:20260422T153518
CREATED:20240125T211222Z
LAST-MODIFIED:20240125T211222Z
UID:10243-1734166800-1734166800@tracpgh.com
SUMMARY:Pre-Service Training - Day 1
DESCRIPTION:Legal Issues\, Shared Parenting\, and Prudent Parenting. Contact: Shayna Johnson 412-471-8722 ext. 246 Email: sjohnson@tracpgh.org\nPre-Service Training Sign upPlease enable JavaScript in your browser to complete this form.Name *FirstLastEmail *Phone *Have you attended a TRAC Orientation Session? *YesNoNames of all attendees *MessageRegister
URL:http://tracpgh.com/event/pre-service-training-day-1-19/
LOCATION:Via Zoom
CATEGORIES:Parent Prep Training
END:VEVENT
BEGIN:VEVENT
DTSTART;TZID=America/New_York:20241225T000000
DTEND;TZID=America/New_York:20241225T000000
DTSTAMP:20260422T153518
CREATED:20240125T211417Z
LAST-MODIFIED:20240125T211417Z
UID:10252-1735084800-1735084800@tracpgh.com
SUMMARY:Christmas - TRAC Office is closed
DESCRIPTION:
URL:http://tracpgh.com/event/christmas-trac-office-is-closed-2/
CATEGORIES:Holiday
END:VEVENT
END:VCALENDAR