BEGIN:VCALENDAR
VERSION:2.0
PRODID:-//TRAC - ECPv6.15.10//NONSGML v1.0//EN
CALSCALE:GREGORIAN
METHOD:PUBLISH
X-WR-CALNAME:TRAC
X-ORIGINAL-URL:http://tracpgh.com
X-WR-CALDESC:Events for TRAC
REFRESH-INTERVAL;VALUE=DURATION:PT1H
X-Robots-Tag:noindex
X-PUBLISHED-TTL:PT1H
BEGIN:VTIMEZONE
TZID:America/New_York
BEGIN:DAYLIGHT
TZOFFSETFROM:-0500
TZOFFSETTO:-0400
TZNAME:EDT
DTSTART:20240310T070000
END:DAYLIGHT
BEGIN:STANDARD
TZOFFSETFROM:-0400
TZOFFSETTO:-0500
TZNAME:EST
DTSTART:20241103T060000
END:STANDARD
BEGIN:DAYLIGHT
TZOFFSETFROM:-0500
TZOFFSETTO:-0400
TZNAME:EDT
DTSTART:20250309T070000
END:DAYLIGHT
BEGIN:STANDARD
TZOFFSETFROM:-0400
TZOFFSETTO:-0500
TZNAME:EST
DTSTART:20251102T060000
END:STANDARD
BEGIN:DAYLIGHT
TZOFFSETFROM:-0500
TZOFFSETTO:-0400
TZNAME:EDT
DTSTART:20260308T070000
END:DAYLIGHT
BEGIN:STANDARD
TZOFFSETFROM:-0400
TZOFFSETTO:-0500
TZNAME:EST
DTSTART:20261101T060000
END:STANDARD
END:VTIMEZONE
BEGIN:VEVENT
DTSTART;TZID=America/New_York:20250704T000000
DTEND;TZID=America/New_York:20250704T000000
DTSTAMP:20260420T084133
CREATED:20250127T163916Z
LAST-MODIFIED:20250127T163916Z
UID:11042-1751587200-1751587200@tracpgh.com
SUMMARY:Fourth of July - TRAC Office is closed
DESCRIPTION:
URL:http://tracpgh.com/event/fourth-of-july-trac-office-is-closed-3/
CATEGORIES:Holiday
END:VEVENT
BEGIN:VEVENT
DTSTART;TZID=America/New_York:20250712T090000
DTEND;TZID=America/New_York:20250712T160000
DTSTAMP:20260420T084133
CREATED:20250127T163704Z
LAST-MODIFIED:20250127T163704Z
UID:11016-1752310800-1752336000@tracpgh.com
SUMMARY:Pre-Service Training - Day 1
DESCRIPTION:Legal Issues\, Shared Parenting\, and Prudent Parenting. Contact: Shayna Johnson 412-471-8722 ext. 246 Email: sjohnson@tracpgh.org\nPre-Service Training Sign upPlease enable JavaScript in your browser to complete this form.Name *FirstLastEmail *Phone *Have you attended a TRAC Orientation Session? *YesNoNames of all attendees *WebsiteRegister
URL:http://tracpgh.com/event/pre-service-training-day-1-24/
LOCATION:Via Zoom
CATEGORIES:Parent Prep Training
END:VEVENT
BEGIN:VEVENT
DTSTART;TZID=America/New_York:20250719T090000
DTEND;TZID=America/New_York:20250719T160000
DTSTAMP:20260420T084133
CREATED:20250127T163718Z
LAST-MODIFIED:20250127T163718Z
UID:11017-1752915600-1752940800@tracpgh.com
SUMMARY:Pre-Service Training - Day 2
DESCRIPTION:Navigating Systems\, Therapeutic/Treatment Parenting and Resources. Contact: Shayna Johnson 412-471-8722 ext. 246 Email: sjohnson@tracpgh.org\nPre-Service Training Sign upPlease enable JavaScript in your browser to complete this form.Name *FirstLastEmail *Phone *Have you attended a TRAC Orientation Session? *YesNoNames of all attendees *NameRegister
URL:http://tracpgh.com/event/pre-service-training-day-2-24/
LOCATION:Via Zoom
CATEGORIES:Parent Prep Training
END:VEVENT
BEGIN:VEVENT
DTSTART;TZID=America/New_York:20250726T090000
DTEND;TZID=America/New_York:20250726T160000
DTSTAMP:20260420T084133
CREATED:20250127T163719Z
LAST-MODIFIED:20250127T163719Z
UID:11018-1753520400-1753545600@tracpgh.com
SUMMARY:Pre-Service Training - Day 3
DESCRIPTION:Cultural Identity\, Who Are The Children\, Who Are The Resource Parents\, and Crisis Theory & Intervention. Contact: Shayna Johnson 412-471-8722 ext. 246 Email: sjohnson@tracpgh.org\nPre-Service Training Sign upPlease enable JavaScript in your browser to complete this form.Name *FirstLastEmail *Phone *Have you attended a TRAC Orientation Session? *YesNoNames of all attendees *NameRegister
URL:http://tracpgh.com/event/pre-service-training-day-3-24/
LOCATION:Via Zoom
CATEGORIES:Parent Prep Training
END:VEVENT
END:VCALENDAR