BEGIN:VCALENDAR
VERSION:2.0
PRODID:-//TRAC - ECPv6.15.10//NONSGML v1.0//EN
CALSCALE:GREGORIAN
METHOD:PUBLISH
X-WR-CALNAME:TRAC
X-ORIGINAL-URL:https://tracpgh.com
X-WR-CALDESC:Events for TRAC
REFRESH-INTERVAL;VALUE=DURATION:PT1H
X-Robots-Tag:noindex
X-PUBLISHED-TTL:PT1H
BEGIN:VTIMEZONE
TZID:America/New_York
BEGIN:DAYLIGHT
TZOFFSETFROM:-0500
TZOFFSETTO:-0400
TZNAME:EDT
DTSTART:20230312T070000
END:DAYLIGHT
BEGIN:STANDARD
TZOFFSETFROM:-0400
TZOFFSETTO:-0500
TZNAME:EST
DTSTART:20231105T060000
END:STANDARD
BEGIN:DAYLIGHT
TZOFFSETFROM:-0500
TZOFFSETTO:-0400
TZNAME:EDT
DTSTART:20240310T070000
END:DAYLIGHT
BEGIN:STANDARD
TZOFFSETFROM:-0400
TZOFFSETTO:-0500
TZNAME:EST
DTSTART:20241103T060000
END:STANDARD
BEGIN:DAYLIGHT
TZOFFSETFROM:-0500
TZOFFSETTO:-0400
TZNAME:EDT
DTSTART:20250309T070000
END:DAYLIGHT
BEGIN:STANDARD
TZOFFSETFROM:-0400
TZOFFSETTO:-0500
TZNAME:EST
DTSTART:20251102T060000
END:STANDARD
END:VTIMEZONE
BEGIN:VEVENT
DTSTART;TZID=America/New_York:20240115T000000
DTEND;TZID=America/New_York:20240115T000000
DTSTAMP:20260425T071627
CREATED:20240125T211402Z
LAST-MODIFIED:20240125T211402Z
UID:10245-1705276800-1705276800@tracpgh.com
SUMMARY:Martin Luther King Jr. Day - TRAC Office is closed
DESCRIPTION:
URL:https://tracpgh.com/event/martin-luther-king-jr-day-trac-office-is-closed/
CATEGORIES:Holiday
END:VEVENT
END:VCALENDAR