BEGIN:VCALENDAR
VERSION:2.0
PRODID:-//TRAC - ECPv6.15.10//NONSGML v1.0//EN
CALSCALE:GREGORIAN
METHOD:PUBLISH
X-WR-CALNAME:TRAC
X-ORIGINAL-URL:https://tracpgh.com
X-WR-CALDESC:Events for TRAC
REFRESH-INTERVAL;VALUE=DURATION:PT1H
X-Robots-Tag:noindex
X-PUBLISHED-TTL:PT1H
BEGIN:VTIMEZONE
TZID:America/New_York
BEGIN:DAYLIGHT
TZOFFSETFROM:-0500
TZOFFSETTO:-0400
TZNAME:EDT
DTSTART:20240310T070000
END:DAYLIGHT
BEGIN:STANDARD
TZOFFSETFROM:-0400
TZOFFSETTO:-0500
TZNAME:EST
DTSTART:20241103T060000
END:STANDARD
BEGIN:DAYLIGHT
TZOFFSETFROM:-0500
TZOFFSETTO:-0400
TZNAME:EDT
DTSTART:20250309T070000
END:DAYLIGHT
BEGIN:STANDARD
TZOFFSETFROM:-0400
TZOFFSETTO:-0500
TZNAME:EST
DTSTART:20251102T060000
END:STANDARD
BEGIN:DAYLIGHT
TZOFFSETFROM:-0500
TZOFFSETTO:-0400
TZNAME:EDT
DTSTART:20260308T070000
END:DAYLIGHT
BEGIN:STANDARD
TZOFFSETFROM:-0400
TZOFFSETTO:-0500
TZNAME:EST
DTSTART:20261101T060000
END:STANDARD
BEGIN:DAYLIGHT
TZOFFSETFROM:-0500
TZOFFSETTO:-0400
TZNAME:EDT
DTSTART:20270314T070000
END:DAYLIGHT
BEGIN:STANDARD
TZOFFSETFROM:-0400
TZOFFSETTO:-0500
TZNAME:EST
DTSTART:20271107T060000
END:STANDARD
END:VTIMEZONE
BEGIN:VEVENT
DTSTART;TZID=America/New_York:20251127T000000
DTEND;TZID=America/New_York:20251128T000000
DTSTAMP:20260425T104240
CREATED:20250127T163917Z
LAST-MODIFIED:20250127T163917Z
UID:11044-1764201600-1764288000@tracpgh.com
SUMMARY:Thanksgiving  - TRAC Office is closed
DESCRIPTION:
URL:https://tracpgh.com/event/thanksgiving-trac-office-is-closed-3/
CATEGORIES:Holiday
END:VEVENT
BEGIN:VEVENT
DTSTART;TZID=America/New_York:20251225T000000
DTEND;TZID=America/New_York:20251227T000000
DTSTAMP:20260425T104240
CREATED:20250127T163917Z
LAST-MODIFIED:20251208T165054Z
UID:11045-1766620800-1766793600@tracpgh.com
SUMMARY:Christmas - TRAC Office is closed
DESCRIPTION:
URL:https://tracpgh.com/event/christmas-trac-office-is-closed-3/
CATEGORIES:Holiday
END:VEVENT
BEGIN:VEVENT
DTSTART;TZID=America/New_York:20260101T000000
DTEND;TZID=America/New_York:20260101T000000
DTSTAMP:20260425T104240
CREATED:20260209T225647Z
LAST-MODIFIED:20260209T225647Z
UID:11837-1767225600-1767225600@tracpgh.com
SUMMARY:New Year's Day - TRAC Office is closed
DESCRIPTION:
URL:https://tracpgh.com/event/new-years-day-trac-office-is-closed-3/
CATEGORIES:Holiday
END:VEVENT
BEGIN:VEVENT
DTSTART;TZID=America/New_York:20260102T000000
DTEND;TZID=America/New_York:20260102T000000
DTSTAMP:20260425T104240
CREATED:20260209T225826Z
LAST-MODIFIED:20260209T225826Z
UID:11838-1767312000-1767312000@tracpgh.com
SUMMARY:New Year's Day - TRAC Office is closed
DESCRIPTION:
URL:https://tracpgh.com/event/new-years-day-trac-office-is-closed-4/
CATEGORIES:Holiday
END:VEVENT
BEGIN:VEVENT
DTSTART;TZID=America/New_York:20260119T000000
DTEND;TZID=America/New_York:20260119T000000
DTSTAMP:20260425T104240
CREATED:20260209T225826Z
LAST-MODIFIED:20260209T225826Z
UID:11839-1768780800-1768780800@tracpgh.com
SUMMARY:Martin Luther King Jr. Day - TRAC Office is closed
DESCRIPTION:
URL:https://tracpgh.com/event/martin-luther-king-jr-day-trac-office-is-closed-3/
CATEGORIES:Holiday
END:VEVENT
BEGIN:VEVENT
DTSTART;TZID=America/New_York:20260216T000000
DTEND;TZID=America/New_York:20260216T000000
DTSTAMP:20260425T104240
CREATED:20260209T225827Z
LAST-MODIFIED:20260209T225827Z
UID:11840-1771200000-1771200000@tracpgh.com
SUMMARY:Presidents Day - TRAC Office is closed
DESCRIPTION:
URL:https://tracpgh.com/event/presidents-day-trac-office-is-closed-3/
CATEGORIES:Holiday
END:VEVENT
BEGIN:VEVENT
DTSTART;TZID=America/New_York:20260403T000000
DTEND;TZID=America/New_York:20260403T000000
DTSTAMP:20260425T104240
CREATED:20260209T225827Z
LAST-MODIFIED:20260209T225827Z
UID:11841-1775174400-1775174400@tracpgh.com
SUMMARY:Good Friday - TRAC Office is closed
DESCRIPTION:
URL:https://tracpgh.com/event/good-friday-trac-office-is-closed-4/
CATEGORIES:Holiday
END:VEVENT
BEGIN:VEVENT
DTSTART;TZID=America/New_York:20260525T000000
DTEND;TZID=America/New_York:20260525T000000
DTSTAMP:20260425T104240
CREATED:20260209T225827Z
LAST-MODIFIED:20260209T225827Z
UID:11842-1779667200-1779667200@tracpgh.com
SUMMARY:Memorial Day - TRAC Office is closed
DESCRIPTION:
URL:https://tracpgh.com/event/memorial-day-trac-office-is-closed-4/
CATEGORIES:Holiday
END:VEVENT
BEGIN:VEVENT
DTSTART;TZID=America/New_York:20260703T000000
DTEND;TZID=America/New_York:20260703T000000
DTSTAMP:20260425T104240
CREATED:20260209T230027Z
LAST-MODIFIED:20260209T230027Z
UID:11843-1783036800-1783036800@tracpgh.com
SUMMARY:Fourth of July - TRAC Office is closed
DESCRIPTION:
URL:https://tracpgh.com/event/fourth-of-july-trac-office-is-closed-4/
CATEGORIES:Holiday
END:VEVENT
BEGIN:VEVENT
DTSTART;TZID=America/New_York:20260907T000000
DTEND;TZID=America/New_York:20260907T000000
DTSTAMP:20260425T104240
CREATED:20260209T230029Z
LAST-MODIFIED:20260209T230029Z
UID:11844-1788739200-1788739200@tracpgh.com
SUMMARY:Labor Day - TRAC Office is closed
DESCRIPTION:
URL:https://tracpgh.com/event/labor-day-trac-office-is-closed-4/
CATEGORIES:Holiday
END:VEVENT
BEGIN:VEVENT
DTSTART;TZID=America/New_York:20261126T000000
DTEND;TZID=America/New_York:20261126T000000
DTSTAMP:20260425T104240
CREATED:20260209T230029Z
LAST-MODIFIED:20260209T230029Z
UID:11845-1795651200-1795651200@tracpgh.com
SUMMARY:Thanksgiving  - TRAC Office is closed
DESCRIPTION:
URL:https://tracpgh.com/event/thanksgiving-trac-office-is-closed-4/
CATEGORIES:Holiday
END:VEVENT
BEGIN:VEVENT
DTSTART;TZID=America/New_York:20261127T000000
DTEND;TZID=America/New_York:20261127T000000
DTSTAMP:20260425T104240
CREATED:20260209T230030Z
LAST-MODIFIED:20260209T230030Z
UID:11846-1795737600-1795737600@tracpgh.com
SUMMARY:Thanksgiving  - TRAC Office is closed
DESCRIPTION:
URL:https://tracpgh.com/event/thanksgiving-trac-office-is-closed-5/
CATEGORIES:Holiday
END:VEVENT
BEGIN:VEVENT
DTSTART;TZID=America/New_York:20261225T000000
DTEND;TZID=America/New_York:20261225T000000
DTSTAMP:20260425T104240
CREATED:20260209T230030Z
LAST-MODIFIED:20260209T230030Z
UID:11847-1798156800-1798156800@tracpgh.com
SUMMARY:Christmas - TRAC Office is closed
DESCRIPTION:
URL:https://tracpgh.com/event/christmas-trac-office-is-closed-4/
CATEGORIES:Holiday
END:VEVENT
END:VCALENDAR